BEGIN:VCALENDAR
VERSION:2.0
PRODID:-//Hospice Services of Lake County - ECPv6.10.2//NONSGML v1.0//EN
CALSCALE:GREGORIAN
METHOD:PUBLISH
X-WR-CALNAME:Hospice Services of Lake County
X-ORIGINAL-URL:https://www.lakecountyhospice.org
X-WR-CALDESC:Events for Hospice Services of Lake County
REFRESH-INTERVAL;VALUE=DURATION:PT1H
X-Robots-Tag:noindex
X-PUBLISHED-TTL:PT1H
BEGIN:VTIMEZONE
TZID:America/Los_Angeles
BEGIN:DAYLIGHT
TZOFFSETFROM:-0800
TZOFFSETTO:-0700
TZNAME:PDT
DTSTART:20260308T100000
END:DAYLIGHT
BEGIN:STANDARD
TZOFFSETFROM:-0700
TZOFFSETTO:-0800
TZNAME:PST
DTSTART:20261101T090000
END:STANDARD
END:VTIMEZONE
BEGIN:VEVENT
DTSTART;TZID=America/Los_Angeles:20260107T120000
DTEND;TZID=America/Los_Angeles:20260107T133000
DTSTAMP:20260421T214103
CREATED:20250106T235858Z
LAST-MODIFIED:20250106T235858Z
UID:10630-1767787200-1767792600@www.lakecountyhospice.org
SUMMARY:Good Mourning Grief Support Group
DESCRIPTION:Often\, when we experience the death of a loved one\, we don’t know where to turn for emotional support. Through our Hospice & Community Bereavement Programs\, we can offer grief and loss support to community members of all ages.
URL:https://www.lakecountyhospice.org/event/good-mourning-grief-support-group-12/
LOCATION:Round Table Pizza – Lakeport\, 821 11th Street\, Lakeport\, CA\, 95453\, United States
CATEGORIES:Grief & Healing
ATTACH;FMTTYPE=image/jpeg:https://www.lakecountyhospice.org/wp-content/uploads/2025/01/Good-Mourning.jpg
END:VEVENT
END:VCALENDAR