BEGIN:VCALENDAR
VERSION:2.0
PRODID:-//Hospice Services of Lake County - ECPv6.10.2//NONSGML v1.0//EN
CALSCALE:GREGORIAN
METHOD:PUBLISH
X-ORIGINAL-URL:https://www.lakecountyhospice.org
X-WR-CALDESC:Events for Hospice Services of Lake County
REFRESH-INTERVAL;VALUE=DURATION:PT1H
X-Robots-Tag:noindex
X-PUBLISHED-TTL:PT1H
BEGIN:VTIMEZONE
TZID:America/Los_Angeles
BEGIN:DAYLIGHT
TZOFFSETFROM:-0800
TZOFFSETTO:-0700
TZNAME:PDT
DTSTART:20220313T100000
END:DAYLIGHT
BEGIN:STANDARD
TZOFFSETFROM:-0700
TZOFFSETTO:-0800
TZNAME:PST
DTSTART:20221106T090000
END:STANDARD
END:VTIMEZONE
BEGIN:VEVENT
DTSTART;TZID=America/Los_Angeles:20220921T120000
DTEND;TZID=America/Los_Angeles:20220921T133000
DTSTAMP:20260424T014457
CREATED:20220505T204754Z
LAST-MODIFIED:20220603T221444Z
UID:3518-1663761600-1663767000@www.lakecountyhospice.org
SUMMARY:Stronger Together - Ongoing 3rd Wednesday each month - Drop In
DESCRIPTION:Often\, when we experience the death of a loved one\, we don’t know where to turn for emotional support.  Any adult who has lost a loved one is welcome to attend these groups\, as often as convenient.
URL:https://www.lakecountyhospice.org/event/stronger-together-drop-in-support-group-2022-09-21/
LOCATION:Round Table Pizza\, 821 11th St.\, Lakeport\, 95453\, United States
CATEGORIES:Community,Grief & Healing
ATTACH;FMTTYPE=image/jpeg:https://www.lakecountyhospice.org/wp-content/uploads/2022/05/Stronger-Together-Pic.jpg
ORGANIZER;CN="Kathleen Bradley":MAILTO:kbradley@lakecountyhospice.org
END:VEVENT
BEGIN:VEVENT
DTSTART;TZID=America/Los_Angeles:20220928T120000
DTEND;TZID=America/Los_Angeles:20220928T133000
DTSTAMP:20260424T014457
CREATED:20220506T180824Z
LAST-MODIFIED:20220603T222453Z
UID:3550-1664366400-1664371800@www.lakecountyhospice.org
SUMMARY:Stronger Together - Ongoing 4th Wednesday each month
DESCRIPTION:Often\, when we experience the death of a loved one\, we don’t know where to turn for emotional support.  Any adult who has lost a loved one is welcome to attend these groups\, as often as convenient.
URL:https://www.lakecountyhospice.org/event/stronger-together-ongoing-4th-wednesday-each-month-2022-09-28/
LOCATION:Clear Lake Chamber of Commerce\, 4295 Lakeshore Dr.\, Clearlake\, CA\, 95422\, United States
CATEGORIES:Community,Grief & Healing
ATTACH;FMTTYPE=image/jpeg:https://www.lakecountyhospice.org/wp-content/uploads/2022/05/Stronger-Together-Pic.jpg
ORGANIZER;CN="Kathleen Bradley":MAILTO:kbradley@lakecountyhospice.org
END:VEVENT
END:VCALENDAR