BEGIN:VCALENDAR
VERSION:2.0
PRODID:-//Hospice Services of Lake County - ECPv6.10.2//NONSGML v1.0//EN
CALSCALE:GREGORIAN
METHOD:PUBLISH
X-WR-CALNAME:Hospice Services of Lake County
X-ORIGINAL-URL:https://www.lakecountyhospice.org
X-WR-CALDESC:Events for Hospice Services of Lake County
REFRESH-INTERVAL;VALUE=DURATION:PT1H
X-Robots-Tag:noindex
X-PUBLISHED-TTL:PT1H
BEGIN:VTIMEZONE
TZID:America/Los_Angeles
BEGIN:DAYLIGHT
TZOFFSETFROM:-0800
TZOFFSETTO:-0700
TZNAME:PDT
DTSTART:20220313T100000
END:DAYLIGHT
BEGIN:STANDARD
TZOFFSETFROM:-0700
TZOFFSETTO:-0800
TZNAME:PST
DTSTART:20221106T090000
END:STANDARD
END:VTIMEZONE
BEGIN:VEVENT
DTSTART;TZID=America/Los_Angeles:20221203T170000
DTEND;TZID=America/Los_Angeles:20221203T230000
DTSTAMP:20260421T213727
CREATED:20221111T181030Z
LAST-MODIFIED:20221126T194631Z
UID:4142-1670086800-1670108400@www.lakecountyhospice.org
SUMMARY:Festival of Trees
DESCRIPTION:Festival of Trees\, A Spectacular Party and Auction where beautifully designed holiday trees and other holiday décor will be showcased in downtown Kelseyville before they are sold during the party and live auction.  \nThis festive evening will raise much-needed funds for our Wings of Hope\, Grief Counseling Services\, and special needs of Hospice patients. \nYou could not ask for a more “spectacular” way to kick-off the Holiday Season while supporting a critical community need!   \n  \nEvent Location \nSophie’s Day Spa \n3855 Main St\, Kelseyville\, CA 95451
URL:https://www.lakecountyhospice.org/event/festival-of-trees/
LOCATION:3855 Main St\, Kelseyville\, CA 95451\, 3855 Main St\,\, Kelseyville\,\, CA\, 95453
CATEGORIES:Community
ORGANIZER;CN="Beth Havrilla":MAILTO:bhavrilla@lakecountyhospice.org
END:VEVENT
BEGIN:VEVENT
DTSTART;TZID=America/Los_Angeles:20221207T120000
DTEND;TZID=America/Los_Angeles:20221207T133000
DTSTAMP:20260421T213727
CREATED:20220506T201035Z
LAST-MODIFIED:20220603T222308Z
UID:3558-1670414400-1670419800@www.lakecountyhospice.org
SUMMARY:Stronger Together - Ongoing First Wednesday each month
DESCRIPTION:Often\, when we experience the death of a loved one\, we don’t know where to turn for emotional support.  Any adult who has lost a loved one is welcome to attend these groups\, as often as convenient.
URL:https://www.lakecountyhospice.org/event/stronger-together-2022-12-07/
LOCATION:Round Table Pizza\, 821 11th St.\, Lakeport\, 95453\, United States
CATEGORIES:Community,Grief & Healing
ATTACH;FMTTYPE=image/jpeg:https://www.lakecountyhospice.org/wp-content/uploads/2022/05/Stronger-Together-Pic.jpg
ORGANIZER;CN="Kathleen Bradley":MAILTO:kbradley@lakecountyhospice.org
END:VEVENT
BEGIN:VEVENT
DTSTART;TZID=America/Los_Angeles:20221213T170000
DTEND;TZID=America/Los_Angeles:20221213T180000
DTSTAMP:20260421T213727
CREATED:20221208T155209Z
LAST-MODIFIED:20221208T155716Z
UID:4167-1670950800-1670954400@www.lakecountyhospice.org
SUMMARY:Light Up a Life - Ceremonies of Remembrance (Lakeport)
DESCRIPTION:
URL:https://www.lakecountyhospice.org/event/light-up-a-life-ceremonies-of-remembrance/
LOCATION:Bereavement Center\, 1862 Parallel Dr.\, Lakeport\, CA\, 95453\, United States
CATEGORIES:Community,Grief & Healing
ORGANIZER;CN="Kathleen Bradley":MAILTO:kbradley@lakecountyhospice.org
END:VEVENT
BEGIN:VEVENT
DTSTART;TZID=America/Los_Angeles:20221215T183000
DTEND;TZID=America/Los_Angeles:20221215T193000
DTSTAMP:20260421T213727
CREATED:20221208T155613Z
LAST-MODIFIED:20221208T155649Z
UID:4169-1671129000-1671132600@www.lakecountyhospice.org
SUMMARY:Light Up a Life - Ceremonies of Remembrance (Lower Lake)
DESCRIPTION:
URL:https://www.lakecountyhospice.org/event/light-up-a-life-ceremonies-of-remembrance-2/
LOCATION:Lower Lake Historic Schoolhouse Museum\, 16435 Main St\, Lower Lake\, CA\, 95422\, United States
CATEGORIES:Community,Grief & Healing
ORGANIZER;CN="Kathleen Bradley":MAILTO:kbradley@lakecountyhospice.org
END:VEVENT
BEGIN:VEVENT
DTSTART;TZID=America/Los_Angeles:20221221T120000
DTEND;TZID=America/Los_Angeles:20221221T133000
DTSTAMP:20260421T213727
CREATED:20220505T204754Z
LAST-MODIFIED:20220603T221445Z
UID:3546-1671624000-1671629400@www.lakecountyhospice.org
SUMMARY:Stronger Together - Ongoing 3rd Wednesday each month - Drop In
DESCRIPTION:Often\, when we experience the death of a loved one\, we don’t know where to turn for emotional support.  Any adult who has lost a loved one is welcome to attend these groups\, as often as convenient.
URL:https://www.lakecountyhospice.org/event/stronger-together-drop-in-support-group-2022-12-21/
LOCATION:Round Table Pizza\, 821 11th St.\, Lakeport\, 95453\, United States
CATEGORIES:Community,Grief & Healing
ATTACH;FMTTYPE=image/jpeg:https://www.lakecountyhospice.org/wp-content/uploads/2022/05/Stronger-Together-Pic.jpg
ORGANIZER;CN="Kathleen Bradley":MAILTO:kbradley@lakecountyhospice.org
END:VEVENT
END:VCALENDAR