BEGIN:VCALENDAR
VERSION:2.0
PRODID:-//Hospice Services of Lake County - ECPv6.10.2//NONSGML v1.0//EN
CALSCALE:GREGORIAN
METHOD:PUBLISH
X-ORIGINAL-URL:https://www.lakecountyhospice.org
X-WR-CALDESC:Events for Hospice Services of Lake County
REFRESH-INTERVAL;VALUE=DURATION:PT1H
X-Robots-Tag:noindex
X-PUBLISHED-TTL:PT1H
BEGIN:VTIMEZONE
TZID:America/Los_Angeles
BEGIN:DAYLIGHT
TZOFFSETFROM:-0800
TZOFFSETTO:-0700
TZNAME:PDT
DTSTART:20230312T100000
END:DAYLIGHT
BEGIN:STANDARD
TZOFFSETFROM:-0700
TZOFFSETTO:-0800
TZNAME:PST
DTSTART:20231105T090000
END:STANDARD
END:VTIMEZONE
BEGIN:VEVENT
DTSTART;TZID=America/Los_Angeles:20230301T120000
DTEND;TZID=America/Los_Angeles:20230301T133000
DTSTAMP:20260421T161517
CREATED:20230210T212617Z
LAST-MODIFIED:20240223T184247Z
UID:4256-1677672000-1677677400@www.lakecountyhospice.org
SUMMARY:Good Mourning Support Group
DESCRIPTION:Often\, when we experience the death of a loved one\, we don’t know where to turn for emotional support. Through our Hospice & Community Bereavement Programs\, we can offer grief and loss support to community members of all ages.Four separate monthly drop-in support groups are being held in Lakeport and Clearlake. Adults who have lost a loved one are welcome to attend groups as often as convenient.Good Mourning Support Group – 1st Wednesday of every month\, 12pm-1:30 pm\, Round Table Pizza in LakeportStronger Together – A Grief and Healing Support Group – 3rd Wednesday of every month\, 2pm-3:30 pm\, Bereavement CenterStronger Together – A Grief and Healing Support Group – 4th Wednesday of every month\, 2pm-3:30pm\, Clear Lake Chamber of CommerceDeath Cafe – 1st Tuesday of every month – Common Grounds Coffee in Kelseyville 4-5 pmMen’s Coffee Group – 3rd Wednesday of each month\, Woody’s Cafe\, Kelseyville\, 9:30-10:30 am
URL:https://www.lakecountyhospice.org/event/good-mourning-support-group/
LOCATION:Round Table Pizza – Lakeport\, 821 11th Street\, Lakeport\, CA\, 95453\, United States
CATEGORIES:Grief & Healing
ATTACH;FMTTYPE=image/jpeg:https://www.lakecountyhospice.org/wp-content/uploads/2023/02/Good-Mourning-Support-Group.jpg
END:VEVENT
BEGIN:VEVENT
DTSTART;TZID=America/Los_Angeles:20230301T140000
DTEND;TZID=America/Los_Angeles:20230301T170000
DTSTAMP:20260421T161517
CREATED:20221111T181910Z
LAST-MODIFIED:20230223T223530Z
UID:4156-1677679200-1677690000@www.lakecountyhospice.org
SUMMARY:8-Week Education and Bereavement Support Group
DESCRIPTION:If you have lost someone significant in your life\, we invite you to explore the Wilderness of Grief with us. Group sessions are structured with combined instruction and discussion in a safe environment by specially-trained staff and volunteer facilitators. \nPre-registration is required. \nGroups Begin January 12th 2023
URL:https://www.lakecountyhospice.org/event/8-week-education-and-bereavement-support-group-2023-03-01/
LOCATION:Bereavement Center\, 1862 Parallel Dr.\, Lakeport\, CA\, 95453\, United States
CATEGORIES:Grief & Healing
ATTACH;FMTTYPE=image/jpeg:https://www.lakecountyhospice.org/wp-content/uploads/2022/11/Journey-Through-Grief.jpg
END:VEVENT
BEGIN:VEVENT
DTSTART;TZID=America/Los_Angeles:20230308T130000
DTEND;TZID=America/Los_Angeles:20230308T140000
DTSTAMP:20260421T161517
CREATED:20230223T222253Z
LAST-MODIFIED:20230223T222253Z
UID:4315-1678280400-1678284000@www.lakecountyhospice.org
SUMMARY:Self Care for the Caregiver
DESCRIPTION:Join in a discussion about caring for yourself as a caregiver. Participants will be presented with tools and insights for reducing caregiver fatigue and healthy tips for managing your stress. We encourage caregivers to participate as we learn that the best way to take care of another is to make sure that we take care of ourselves.\nPlease reach out to Melissa Jones at Orchard Park Senior Living for more information about this free event:\n707-995-1900\nMelissa.Jones@agingways.com \nSC1596b_Caring_for_the_Caregiver_Flyer
URL:https://www.lakecountyhospice.org/event/self-care-for-the-caregiver/
LOCATION:CA
CATEGORIES:Community
ATTACH;FMTTYPE=image/jpeg:https://www.lakecountyhospice.org/wp-content/uploads/2023/02/Self-Care.jpg
END:VEVENT
BEGIN:VEVENT
DTSTART;TZID=America/Los_Angeles:20230308T140000
DTEND;TZID=America/Los_Angeles:20230308T170000
DTSTAMP:20260421T161517
CREATED:20221111T181910Z
LAST-MODIFIED:20230223T223530Z
UID:4157-1678284000-1678294800@www.lakecountyhospice.org
SUMMARY:8-Week Education and Bereavement Support Group
DESCRIPTION:If you have lost someone significant in your life\, we invite you to explore the Wilderness of Grief with us. Group sessions are structured with combined instruction and discussion in a safe environment by specially-trained staff and volunteer facilitators. \nPre-registration is required. \nGroups Begin January 12th 2023
URL:https://www.lakecountyhospice.org/event/8-week-education-and-bereavement-support-group-2023-03-08/
LOCATION:Bereavement Center\, 1862 Parallel Dr.\, Lakeport\, CA\, 95453\, United States
CATEGORIES:Grief & Healing
ATTACH;FMTTYPE=image/jpeg:https://www.lakecountyhospice.org/wp-content/uploads/2022/11/Journey-Through-Grief.jpg
END:VEVENT
BEGIN:VEVENT
DTSTART;TZID=America/Los_Angeles:20230315T140000
DTEND;TZID=America/Los_Angeles:20230315T153000
DTSTAMP:20260421T161517
CREATED:20230210T211847Z
LAST-MODIFIED:20240228T220730Z
UID:5515-1678888800-1678894200@www.lakecountyhospice.org
SUMMARY:Stronger Together Support Group
DESCRIPTION:Often\, when we experience the death of a loved one\, we don’t know where to turn for emotional support. Through our Hospice & Community Bereavement Programs\, we can offer grief and loss support to community members of all ages.Four separate monthly drop-in support groups are being held in Lakeport and Clearlake. Adults who have lost a loved one are welcome to attend groups as often as convenient.Good Mourning Support Group – 1st Wednesday of every month\, 12pm-1:30 pm\, Round Table Pizza in LakeportStronger Together – A Grief and Healing Support Group – 3rd Wednesday of every month\, 2pm-3:30 pm\, Bereavement CenterStronger Together – A Grief and Healing Support Group – 4th Wednesday of every month\, 2pm-3:30pm\, Clear Lake Chamber of CommerceDeath Cafe – 1st Tuesday of every month – Common Grounds Coffee in Kelseyville 4-5 pmMen’s Coffee Group – 3rd Wednesday of each month\, Woody’s Cafe\, Kelseyville\, 9:30-10:30 am
URL:https://www.lakecountyhospice.org/event/stronger-together-support-group-2023-03-15/
LOCATION:Bereavement Center\, 1862 Parallel Dr.\, Lakeport\, CA\, 95453\, United States
CATEGORIES:Grief & Healing
ATTACH;FMTTYPE=image/jpeg:https://www.lakecountyhospice.org/wp-content/uploads/2023/02/Stronger-Together-Support-Group-1.jpg
END:VEVENT
BEGIN:VEVENT
DTSTART;TZID=America/Los_Angeles:20230322T140000
DTEND;TZID=America/Los_Angeles:20230322T153000
DTSTAMP:20260421T161517
CREATED:20230210T212402Z
LAST-MODIFIED:20240228T220604Z
UID:6341-1679493600-1679499000@www.lakecountyhospice.org
SUMMARY:Stronger Together Support Group
DESCRIPTION:Often\, when we experience the death of a loved one\, we don’t know where to turn for emotional support. Through our Hospice & Community Bereavement Programs\, we can offer grief and loss support to community members of all ages.Four separate monthly drop-in support groups are being held in Lakeport and Clearlake. Adults who have lost a loved one are welcome to attend groups as often as convenient.Good Mourning Support Group – 1st Wednesday of every month\, 12pm-1:30 pm\, Round Table Pizza in LakeportStronger Together – A Grief and Healing Support Group – 3rd Wednesday of every month\, 2pm-3:30 pm\, Bereavement CenterStronger Together – A Grief and Healing Support Group – 4th Wednesday of every month\, 2pm-3:30pm\, Clear Lake Chamber of CommerceDeath Cafe – 1st Tuesday of every month – Common Grounds Coffee in Kelseyville 4-5 pmMen’s Coffee Group – 3rd Wednesday of each month\, Woody’s Cafe\, Kelseyville\, 9:30-10:30 am
URL:https://www.lakecountyhospice.org/event/stronger-together-support-group-2-2023-03-22/
LOCATION:Clear Lake Chamber of Commerce\, 4295 Lakeshore Dr.\, Clearlake\, CA\, 95422\, United States
CATEGORIES:Grief & Healing
ATTACH;FMTTYPE=image/jpeg:https://www.lakecountyhospice.org/wp-content/uploads/2023/02/Stronger-Together-Support-Group-2.jpg
END:VEVENT
END:VCALENDAR