BEGIN:VCALENDAR
VERSION:2.0
PRODID:-//Hospice Services of Lake County - ECPv6.10.2//NONSGML v1.0//EN
CALSCALE:GREGORIAN
METHOD:PUBLISH
X-ORIGINAL-URL:https://www.lakecountyhospice.org
X-WR-CALDESC:Events for Hospice Services of Lake County
REFRESH-INTERVAL;VALUE=DURATION:PT1H
X-Robots-Tag:noindex
X-PUBLISHED-TTL:PT1H
BEGIN:VTIMEZONE
TZID:America/Los_Angeles
BEGIN:DAYLIGHT
TZOFFSETFROM:-0800
TZOFFSETTO:-0700
TZNAME:PDT
DTSTART:20230312T100000
END:DAYLIGHT
BEGIN:STANDARD
TZOFFSETFROM:-0700
TZOFFSETTO:-0800
TZNAME:PST
DTSTART:20231105T090000
END:STANDARD
END:VTIMEZONE
BEGIN:VEVENT
DTSTART;TZID=America/Los_Angeles:20230704T160000
DTEND;TZID=America/Los_Angeles:20230704T170000
DTSTAMP:20260421T095729
CREATED:20230421T204728Z
LAST-MODIFIED:20240223T184315Z
UID:5586-1688486400-1688490000@www.lakecountyhospice.org
SUMMARY:Death Cafe
DESCRIPTION:Often\, when we experience the death of a loved one\, we don’t know where to turn for emotional support. Through our Hospice & Community Bereavement Programs\, we can offer grief and loss support to community members of all ages.Four separate monthly drop-in support groups are being held in Lakeport and Clearlake. Adults who have lost a loved one are welcome to attend groups as often as convenient.Good Mourning Support Group – 1st Wednesday of every month\, 12pm-1:30 pm\, Round Table Pizza in LakeportStronger Together – A Grief and Healing Support Group – 3rd Wednesday of every month\, 2pm-3:30 pm\, Bereavement CenterStronger Together – A Grief and Healing Support Group – 4th Wednesday of every month\, 2pm-3:30pm\, Clearlake Chamber of CommerceDeath Cafe – 1st Tuesday of every month – Common Grounds Coffee in Kelseyville 4-5 pmMen’s Coffee Group – 3rd Wednesday of each month\, Woody’s Cafe\, Kelseyville\, 9:30-10:30 am
URL:https://www.lakecountyhospice.org/event/death-cafe-2023-07-04/
LOCATION:Riviera Common Grounds Coffee\, 9736 Soda Bay Road\, Kelseyville\, CA\, 95451\, United States
CATEGORIES:Community,Grief & Healing
ATTACH;FMTTYPE=image/jpeg:https://www.lakecountyhospice.org/wp-content/uploads/2023/04/SC1607c_Facebook_Graphic_Deach_Cafe.jpg
END:VEVENT
BEGIN:VEVENT
DTSTART;TZID=America/Los_Angeles:20230705T120000
DTEND;TZID=America/Los_Angeles:20230705T133000
DTSTAMP:20260421T095729
CREATED:20230210T212617Z
LAST-MODIFIED:20240223T184217Z
UID:5555-1688558400-1688563800@www.lakecountyhospice.org
SUMMARY:Good Mourning Support Group
DESCRIPTION:Often\, when we experience the death of a loved one\, we don’t know where to turn for emotional support. Through our Hospice & Community Bereavement Programs\, we can offer grief and loss support to community members of all ages.Four separate monthly drop-in support groups are being held in Lakeport and Clearlake. Adults who have lost a loved one are welcome to attend groups as often as convenient.Good Mourning Support Group – 1st Wednesday of every month\, 12pm-1:30 pm\, Round Table Pizza in LakeportStronger Together – A Grief and Healing Support Group – 3rd Wednesday of every month\, 2pm-3:30 pm\, Bereavement CenterStronger Together – A Grief and Healing Support Group – 4th Wednesday of every month\, 2pm-3:30pm\, Clearlake Chamber of CommerceDeath Cafe – 1st Tuesday of every month – Common Grounds Coffee in Kelseyville 4-5 pmMen’s Coffee Group – 3rd Wednesday of each month\, Woody’s Cafe\, Kelseyville\, 9:30-10:30 am
URL:https://www.lakecountyhospice.org/event/good-mourning-support-group-2023-07-05/
LOCATION:Round Table Pizza – Lakeport\, 821 11th Street\, Lakeport\, CA\, 95453\, United States
CATEGORIES:Grief & Healing
ATTACH;FMTTYPE=image/jpeg:https://www.lakecountyhospice.org/wp-content/uploads/2023/02/Good-Mourning-Support-Group.jpg
END:VEVENT
BEGIN:VEVENT
DTSTART;TZID=America/Los_Angeles:20230719T140000
DTEND;TZID=America/Los_Angeles:20230719T153000
DTSTAMP:20260421T095729
CREATED:20230210T211847Z
LAST-MODIFIED:20240228T220731Z
UID:5519-1689775200-1689780600@www.lakecountyhospice.org
SUMMARY:Stronger Together Support Group
DESCRIPTION:Often\, when we experience the death of a loved one\, we don’t know where to turn for emotional support. Through our Hospice & Community Bereavement Programs\, we can offer grief and loss support to community members of all ages.Four separate monthly drop-in support groups are being held in Lakeport and Clearlake. Adults who have lost a loved one are welcome to attend groups as often as convenient.Good Mourning Support Group – 1st Wednesday of every month\, 12pm-1:30 pm\, Round Table Pizza in LakeportStronger Together – A Grief and Healing Support Group – 3rd Wednesday of every month\, 2pm-3:30 pm\, Bereavement CenterStronger Together – A Grief and Healing Support Group – 4th Wednesday of every month\, 2pm-3:30pm\, Clear Lake Chamber of CommerceDeath Cafe – 1st Tuesday of every month – Common Grounds Coffee in Kelseyville 4-5 pmMen’s Coffee Group – 3rd Wednesday of each month\, Woody’s Cafe\, Kelseyville\, 9:30-10:30 am
URL:https://www.lakecountyhospice.org/event/stronger-together-support-group-2023-07-19/
LOCATION:Bereavement Center\, 1862 Parallel Dr.\, Lakeport\, CA\, 95453\, United States
CATEGORIES:Grief & Healing
ATTACH;FMTTYPE=image/jpeg:https://www.lakecountyhospice.org/wp-content/uploads/2023/02/Stronger-Together-Support-Group-1.jpg
END:VEVENT
BEGIN:VEVENT
DTSTART;TZID=America/Los_Angeles:20230726T140000
DTEND;TZID=America/Los_Angeles:20230726T153000
DTSTAMP:20260421T095729
CREATED:20230210T212402Z
LAST-MODIFIED:20240228T220605Z
UID:6345-1690380000-1690385400@www.lakecountyhospice.org
SUMMARY:Stronger Together Support Group
DESCRIPTION:Often\, when we experience the death of a loved one\, we don’t know where to turn for emotional support. Through our Hospice & Community Bereavement Programs\, we can offer grief and loss support to community members of all ages.Four separate monthly drop-in support groups are being held in Lakeport and Clearlake. Adults who have lost a loved one are welcome to attend groups as often as convenient.Good Mourning Support Group – 1st Wednesday of every month\, 12pm-1:30 pm\, Round Table Pizza in LakeportStronger Together – A Grief and Healing Support Group – 3rd Wednesday of every month\, 2pm-3:30 pm\, Bereavement CenterStronger Together – A Grief and Healing Support Group – 4th Wednesday of every month\, 2pm-3:30pm\, Clear Lake Chamber of CommerceDeath Cafe – 1st Tuesday of every month – Common Grounds Coffee in Kelseyville 4-5 pmMen’s Coffee Group – 3rd Wednesday of each month\, Woody’s Cafe\, Kelseyville\, 9:30-10:30 am
URL:https://www.lakecountyhospice.org/event/stronger-together-support-group-2-2023-07-26/
LOCATION:Clear Lake Chamber of Commerce\, 4295 Lakeshore Dr.\, Clearlake\, CA\, 95422\, United States
CATEGORIES:Grief & Healing
ATTACH;FMTTYPE=image/jpeg:https://www.lakecountyhospice.org/wp-content/uploads/2023/02/Stronger-Together-Support-Group-2.jpg
END:VEVENT
END:VCALENDAR