BEGIN:VCALENDAR
VERSION:2.0
PRODID:-//Hospice Services of Lake County - ECPv6.10.2//NONSGML v1.0//EN
CALSCALE:GREGORIAN
METHOD:PUBLISH
X-WR-CALNAME:Hospice Services of Lake County
X-ORIGINAL-URL:https://www.lakecountyhospice.org
X-WR-CALDESC:Events for Hospice Services of Lake County
REFRESH-INTERVAL;VALUE=DURATION:PT1H
X-Robots-Tag:noindex
X-PUBLISHED-TTL:PT1H
BEGIN:VTIMEZONE
TZID:America/Los_Angeles
BEGIN:DAYLIGHT
TZOFFSETFROM:-0800
TZOFFSETTO:-0700
TZNAME:PDT
DTSTART:20230312T100000
END:DAYLIGHT
BEGIN:STANDARD
TZOFFSETFROM:-0700
TZOFFSETTO:-0800
TZNAME:PST
DTSTART:20231105T090000
END:STANDARD
END:VTIMEZONE
BEGIN:VEVENT
DTSTART;TZID=America/Los_Angeles:20231101T120000
DTEND;TZID=America/Los_Angeles:20231101T133000
DTSTAMP:20260421T033532
CREATED:20230210T212617Z
LAST-MODIFIED:20240223T184218Z
UID:5559-1698840000-1698845400@www.lakecountyhospice.org
SUMMARY:Good Mourning Support Group
DESCRIPTION:Often\, when we experience the death of a loved one\, we don’t know where to turn for emotional support. Through our Hospice & Community Bereavement Programs\, we can offer grief and loss support to community members of all ages.Four separate monthly drop-in support groups are being held in Lakeport and Clearlake. Adults who have lost a loved one are welcome to attend groups as often as convenient.Good Mourning Support Group – 1st Wednesday of every month\, 12pm-1:30 pm\, Round Table Pizza in LakeportStronger Together – A Grief and Healing Support Group – 3rd Wednesday of every month\, 2pm-3:30 pm\, Bereavement CenterStronger Together – A Grief and Healing Support Group – 4th Wednesday of every month\, 2pm-3:30pm\, Clearlake Chamber of CommerceDeath Cafe – 1st Tuesday of every month – Common Grounds Coffee in Kelseyville 4-5 pmMen’s Coffee Group – 3rd Wednesday of each month\, Woody’s Cafe\, Kelseyville\, 9:30-10:30 am
URL:https://www.lakecountyhospice.org/event/good-mourning-support-group-2023-11-01/
LOCATION:Round Table Pizza – Lakeport\, 821 11th Street\, Lakeport\, CA\, 95453\, United States
CATEGORIES:Grief & Healing
ATTACH;FMTTYPE=image/jpeg:https://www.lakecountyhospice.org/wp-content/uploads/2023/02/Good-Mourning-Support-Group.jpg
END:VEVENT
BEGIN:VEVENT
DTSTART;TZID=America/Los_Angeles:20231102T160000
DTEND;TZID=America/Los_Angeles:20231102T180000
DTSTAMP:20260421T033532
CREATED:20230822T184319Z
LAST-MODIFIED:20230822T184319Z
UID:4645-1698940800-1698948000@www.lakecountyhospice.org
SUMMARY:A Journey Through Grief
DESCRIPTION:In our world today\, we are being challenged by losses of all kinds. In addition to these\, many of us are trying to also navigate grief due to the death of a loved one. A free 8-week grief and loss education and support group will be offered weekly starting Thursday\, September 7. \nGroups will be held Thursdays in person from 4 pm – 6 pm at the Bereavement Center located at 1862 Parallel Drive in Lakeport. \nHospice Services of Lake County Bereavement Services staff will serve as facilitators leading discussions and providing tools to help participants handle their grief.“During the weekly group sessions\, education will be provided about grief\, mourning and exploring your normalas you walk thru your unique grief.”— Bereavement Services Manager\, Kathleen Bradley \nWeekly topics are presented in a meaningful sequence\, so attendance at all sessionsis essential. \nTo register for the group meetings or obtain additional information\, please email Jennifer Nystrom at jnystrom@lakecountyhospice.org or call (707) 263-6222
URL:https://www.lakecountyhospice.org/event/a-journey-through-grief-2-2023-11-02/
LOCATION:CA
ATTACH;FMTTYPE=image/jpeg:https://www.lakecountyhospice.org/wp-content/uploads/2023/08/A-Journey-Through-Grief.jpg
END:VEVENT
BEGIN:VEVENT
DTSTART;TZID=America/Los_Angeles:20231104T100000
DTEND;TZID=America/Los_Angeles:20231104T140000
DTSTAMP:20260421T033532
CREATED:20231012T182557Z
LAST-MODIFIED:20231019T194257Z
UID:4738-1699092000-1699106400@www.lakecountyhospice.org
SUMMARY:Wings of Hope - One Day Bereavement Camp
DESCRIPTION:Hospice Services of Lake County provides invaluable support and comfort to grieving families in the community through their compassionate “Wings of Hope” one-day bereavement camp. This remarkable program serves as a beacon of solace for those who have suffered the profound loss of a loved one in Lake County. “Wings of Hope” is a day where families come together to share their experiences\, find healing\, and forge connections with others who understand the depths of their sorrow. The camp creates a nurturing and understanding environment\, offering therapeutic activities\, counseling\, and a safe space for expression\, ultimately helping families find a sense of hope and renewal in the midst of their grief. Hospice Services of Lake County’s “Wings of Hope” is a remarkable testament to the organization’s commitment to fostering resilience and providing a ray of light during the darkest times in the lives of those it serves. \n\nWOH-CAMP-APPLICATION.docx
URL:https://www.lakecountyhospice.org/event/wings-of-hope-one-day-bereavement-camp/
LOCATION:CA
CATEGORIES:Grief & Healing
ATTACH;FMTTYPE=image/jpeg:https://www.lakecountyhospice.org/wp-content/uploads/2023/10/Untitled-design-2.jpg
END:VEVENT
BEGIN:VEVENT
DTSTART;TZID=America/Los_Angeles:20231107T160000
DTEND;TZID=America/Los_Angeles:20231107T170000
DTSTAMP:20260421T033532
CREATED:20230421T204728Z
LAST-MODIFIED:20240223T184315Z
UID:5590-1699372800-1699376400@www.lakecountyhospice.org
SUMMARY:Death Cafe
DESCRIPTION:Often\, when we experience the death of a loved one\, we don’t know where to turn for emotional support. Through our Hospice & Community Bereavement Programs\, we can offer grief and loss support to community members of all ages.Four separate monthly drop-in support groups are being held in Lakeport and Clearlake. Adults who have lost a loved one are welcome to attend groups as often as convenient.Good Mourning Support Group – 1st Wednesday of every month\, 12pm-1:30 pm\, Round Table Pizza in LakeportStronger Together – A Grief and Healing Support Group – 3rd Wednesday of every month\, 2pm-3:30 pm\, Bereavement CenterStronger Together – A Grief and Healing Support Group – 4th Wednesday of every month\, 2pm-3:30pm\, Clearlake Chamber of CommerceDeath Cafe – 1st Tuesday of every month – Common Grounds Coffee in Kelseyville 4-5 pmMen’s Coffee Group – 3rd Wednesday of each month\, Woody’s Cafe\, Kelseyville\, 9:30-10:30 am
URL:https://www.lakecountyhospice.org/event/death-cafe-2023-11-07/
LOCATION:Riviera Common Grounds Coffee\, 9736 Soda Bay Road\, Kelseyville\, CA\, 95451\, United States
CATEGORIES:Community,Grief & Healing
ATTACH;FMTTYPE=image/jpeg:https://www.lakecountyhospice.org/wp-content/uploads/2023/04/SC1607c_Facebook_Graphic_Deach_Cafe.jpg
END:VEVENT
BEGIN:VEVENT
DTSTART;TZID=America/Los_Angeles:20231115T140000
DTEND;TZID=America/Los_Angeles:20231115T153000
DTSTAMP:20260421T033532
CREATED:20230210T211847Z
LAST-MODIFIED:20240228T220731Z
UID:5523-1700056800-1700062200@www.lakecountyhospice.org
SUMMARY:Stronger Together Support Group
DESCRIPTION:Often\, when we experience the death of a loved one\, we don’t know where to turn for emotional support. Through our Hospice & Community Bereavement Programs\, we can offer grief and loss support to community members of all ages.Four separate monthly drop-in support groups are being held in Lakeport and Clearlake. Adults who have lost a loved one are welcome to attend groups as often as convenient.Good Mourning Support Group – 1st Wednesday of every month\, 12pm-1:30 pm\, Round Table Pizza in LakeportStronger Together – A Grief and Healing Support Group – 3rd Wednesday of every month\, 2pm-3:30 pm\, Bereavement CenterStronger Together – A Grief and Healing Support Group – 4th Wednesday of every month\, 2pm-3:30pm\, Clear Lake Chamber of CommerceDeath Cafe – 1st Tuesday of every month – Common Grounds Coffee in Kelseyville 4-5 pmMen’s Coffee Group – 3rd Wednesday of each month\, Woody’s Cafe\, Kelseyville\, 9:30-10:30 am
URL:https://www.lakecountyhospice.org/event/stronger-together-support-group-2023-11-15/
LOCATION:Bereavement Center\, 1862 Parallel Dr.\, Lakeport\, CA\, 95453\, United States
CATEGORIES:Grief & Healing
ATTACH;FMTTYPE=image/jpeg:https://www.lakecountyhospice.org/wp-content/uploads/2023/02/Stronger-Together-Support-Group-1.jpg
END:VEVENT
BEGIN:VEVENT
DTSTART;TZID=America/Los_Angeles:20231122T140000
DTEND;TZID=America/Los_Angeles:20231122T153000
DTSTAMP:20260421T033532
CREATED:20230210T212402Z
LAST-MODIFIED:20240228T220606Z
UID:6349-1700661600-1700667000@www.lakecountyhospice.org
SUMMARY:Stronger Together Support Group
DESCRIPTION:Often\, when we experience the death of a loved one\, we don’t know where to turn for emotional support. Through our Hospice & Community Bereavement Programs\, we can offer grief and loss support to community members of all ages.Four separate monthly drop-in support groups are being held in Lakeport and Clearlake. Adults who have lost a loved one are welcome to attend groups as often as convenient.Good Mourning Support Group – 1st Wednesday of every month\, 12pm-1:30 pm\, Round Table Pizza in LakeportStronger Together – A Grief and Healing Support Group – 3rd Wednesday of every month\, 2pm-3:30 pm\, Bereavement CenterStronger Together – A Grief and Healing Support Group – 4th Wednesday of every month\, 2pm-3:30pm\, Clear Lake Chamber of CommerceDeath Cafe – 1st Tuesday of every month – Common Grounds Coffee in Kelseyville 4-5 pmMen’s Coffee Group – 3rd Wednesday of each month\, Woody’s Cafe\, Kelseyville\, 9:30-10:30 am
URL:https://www.lakecountyhospice.org/event/stronger-together-support-group-2-2023-11-22/
LOCATION:Clear Lake Chamber of Commerce\, 4295 Lakeshore Dr.\, Clearlake\, CA\, 95422\, United States
CATEGORIES:Grief & Healing
ATTACH;FMTTYPE=image/jpeg:https://www.lakecountyhospice.org/wp-content/uploads/2023/02/Stronger-Together-Support-Group-2.jpg
END:VEVENT
END:VCALENDAR